BEGIN:VCALENDAR
VERSION:2.0
PRODID:-//Dublin Welsh Male Voice Choir - ECPv6.15.20//NONSGML v1.0//EN
CALSCALE:GREGORIAN
METHOD:PUBLISH
X-WR-CALNAME:Dublin Welsh Male Voice Choir
X-ORIGINAL-URL:https://dublinwelsh.com
X-WR-CALDESC:Events for Dublin Welsh Male Voice Choir
REFRESH-INTERVAL;VALUE=DURATION:PT1H
X-Robots-Tag:noindex
X-PUBLISHED-TTL:PT1H
BEGIN:VTIMEZONE
TZID:UTC
BEGIN:STANDARD
TZOFFSETFROM:+0000
TZOFFSETTO:+0000
TZNAME:UTC
DTSTART:20240101T000000
END:STANDARD
END:VTIMEZONE
BEGIN:VEVENT
DTSTART;TZID=UTC:20251025T193000
DTEND;TZID=UTC:20251025T213000
DTSTAMP:20260423T232223
CREATED:20250911T151628Z
LAST-MODIFIED:20250911T151628Z
UID:5785-1761420600-1761427800@dublinwelsh.com
SUMMARY:Musical Concert in aid of St. Patrick's Church of Ireland N.S.
DESCRIPTION:
URL:https://dublinwelsh.com/event-page/musical-concert-in-aid-of-st-patricks-church-of-ireland-n-s/
LOCATION:St. Brigid’s Cathedral Kildare\, Market Square\, Kildare\, R51HY65
CATEGORIES:Concert in the Church
ATTACH;FMTTYPE=image/png:https://dublinwelsh.com/wp-content/uploads/2025/09/St.Brigids_Cathedral_Kildare.png
END:VEVENT
BEGIN:VEVENT
DTSTART;TZID=UTC:20250908T193000
DTEND;TZID=UTC:20250908T213000
DTSTAMP:20260423T232223
CREATED:20250827T221538Z
LAST-MODIFIED:20250827T221538Z
UID:5772-1757359800-1757367000@dublinwelsh.com
SUMMARY:Summer break over\, the Choir practice will start again on 8th September
DESCRIPTION:
URL:https://dublinwelsh.com/event-page/summer-break-over-the-choir-practice-will-start-again-on-8th-september/
LOCATION:Royal Donnybrook Hospital
ATTACH;FMTTYPE=image/jpeg:https://dublinwelsh.com/wp-content/uploads/2025/08/Practice2.jpg
END:VEVENT
BEGIN:VEVENT
DTSTART;TZID=UTC:20250403T200000
DTEND;TZID=UTC:20250403T220000
DTSTAMP:20260423T232223
CREATED:20250222T173255Z
LAST-MODIFIED:20250222T174046Z
UID:5725-1743710400-1743717600@dublinwelsh.com
SUMMARY:Songs from the Heart - Concert at Zion Parish Church\, Rathgar
DESCRIPTION:
URL:https://dublinwelsh.com/event-page/songs-from-the-heart-concert-at-zion-parish-church-rathgar/
LOCATION:Zion Parish Church\, Rathgar\, 6 Zion Rd\, Rathgar\, D06 NW62
CATEGORIES:Concert in the Church
ATTACH;FMTTYPE=image/jpeg:https://dublinwelsh.com/wp-content/uploads/2025/02/IMG-20250222-WA0006.jpg
END:VEVENT
END:VCALENDAR